BEGIN:VCALENDAR
VERSION:2.0
PRODID:-//Matamoras Borough - ECPv6.15.20//NONSGML v1.0//EN
CALSCALE:GREGORIAN
METHOD:PUBLISH
X-WR-CALNAME:Matamoras Borough
X-ORIGINAL-URL:https://matamorasborough.com
X-WR-CALDESC:Events for Matamoras Borough
REFRESH-INTERVAL;VALUE=DURATION:PT1H
X-Robots-Tag:noindex
X-PUBLISHED-TTL:PT1H
BEGIN:VTIMEZONE
TZID:America/New_York
BEGIN:DAYLIGHT
TZOFFSETFROM:-0500
TZOFFSETTO:-0400
TZNAME:EDT
DTSTART:20240310T070000
END:DAYLIGHT
BEGIN:STANDARD
TZOFFSETFROM:-0400
TZOFFSETTO:-0500
TZNAME:EST
DTSTART:20241103T060000
END:STANDARD
BEGIN:DAYLIGHT
TZOFFSETFROM:-0500
TZOFFSETTO:-0400
TZNAME:EDT
DTSTART:20250309T070000
END:DAYLIGHT
BEGIN:STANDARD
TZOFFSETFROM:-0400
TZOFFSETTO:-0500
TZNAME:EST
DTSTART:20251102T060000
END:STANDARD
BEGIN:DAYLIGHT
TZOFFSETFROM:-0500
TZOFFSETTO:-0400
TZNAME:EDT
DTSTART:20260308T070000
END:DAYLIGHT
BEGIN:STANDARD
TZOFFSETFROM:-0400
TZOFFSETTO:-0500
TZNAME:EST
DTSTART:20261101T060000
END:STANDARD
END:VTIMEZONE
BEGIN:VEVENT
DTSTART;TZID=America/New_York:20250901T183000
DTEND;TZID=America/New_York:20250901T193000
DTSTAMP:20260425T184906
CREATED:20241212T143220Z
LAST-MODIFIED:20241212T143220Z
UID:2016-1756751400-1756755000@matamorasborough.com
SUMMARY:Payal
DESCRIPTION:
URL:https://matamorasborough.com/event/payal-12/
END:VEVENT
BEGIN:VEVENT
DTSTART;TZID=America/New_York:20250902T183000
DTEND;TZID=America/New_York:20250902T190000
DTSTAMP:20260425T184906
CREATED:20250826T142945Z
LAST-MODIFIED:20250826T142945Z
UID:2691-1756837800-1756839600@matamorasborough.com
SUMMARY:Special Meeting
DESCRIPTION:Notice is hereby given that the Matamoras Borough Council will conduct a Special Meeting to discuss whether to implement a 0.5 mill EMS tax for 2026\, additionally whether to pose the question of a 2 mill EMS tax upon the general municipal election ballot for 2025 as a referendum\, and any other pertinent\nbusiness that may arise.\nThe Special Meeting shall take place on September 2\, 2025 at 6:30 p.m. at the Matamoras Borough Hall\, 10 Avenue I\, Matamoras\, Pennsylvania. \nEric Kudrich\, Borough Council President\nJason R. Ohliger\, Esq.\, Solicitor\nMarianne Brown\, Secretary
URL:https://matamorasborough.com/event/special-meeting/
END:VEVENT
BEGIN:VEVENT
DTSTART;TZID=America/New_York:20250902T190000
DTEND;TZID=America/New_York:20250902T200000
DTSTAMP:20260425T184906
CREATED:20241212T143220Z
LAST-MODIFIED:20250219T175920Z
UID:2018-1756839600-1756843200@matamorasborough.com
SUMMARY:Recreation Metting
DESCRIPTION:
URL:https://matamorasborough.com/event/recreation-metting/
END:VEVENT
BEGIN:VEVENT
DTSTART;TZID=America/New_York:20250903T190000
DTEND;TZID=America/New_York:20250903T200000
DTSTAMP:20260425T184906
CREATED:20241212T143220Z
LAST-MODIFIED:20241212T143220Z
UID:2020-1756926000-1756929600@matamorasborough.com
SUMMARY:Heart of Matamoras
DESCRIPTION:
URL:https://matamorasborough.com/event/heart-of-matamoras-11/
END:VEVENT
BEGIN:VEVENT
DTSTART;TZID=America/New_York:20250904T190000
DTEND;TZID=America/New_York:20250904T200000
DTSTAMP:20260425T184906
CREATED:20241212T143220Z
LAST-MODIFIED:20250219T181800Z
UID:2022-1757012400-1757016000@matamorasborough.com
SUMMARY:Zoning Hearing Board (as needed)
DESCRIPTION:
URL:https://matamorasborough.com/event/zoning-board-12/
END:VEVENT
BEGIN:VEVENT
DTSTART;TZID=America/New_York:20250908T190000
DTEND;TZID=America/New_York:20250908T200000
DTSTAMP:20260425T184906
CREATED:20241212T143220Z
LAST-MODIFIED:20241212T143220Z
UID:2026-1757358000-1757361600@matamorasborough.com
SUMMARY:Democratic Party
DESCRIPTION:
URL:https://matamorasborough.com/event/democratic-party-12/
END:VEVENT
BEGIN:VEVENT
DTSTART;TZID=America/New_York:20250909T193000
DTEND;TZID=America/New_York:20250909T203000
DTSTAMP:20260425T184906
CREATED:20241212T143220Z
LAST-MODIFIED:20241212T143220Z
UID:2028-1757446200-1757449800@matamorasborough.com
SUMMARY:Council Meeting
DESCRIPTION:
URL:https://matamorasborough.com/event/council-meeting-13/
END:VEVENT
BEGIN:VEVENT
DTSTART;TZID=America/New_York:20250910T180000
DTEND;TZID=America/New_York:20250910T190000
DTSTAMP:20260425T184906
CREATED:20241212T143220Z
LAST-MODIFIED:20241212T143220Z
UID:2033-1757527200-1757530800@matamorasborough.com
SUMMARY:Planning Workshop (as needed)
DESCRIPTION:
URL:https://matamorasborough.com/event/planning-workshop-as-needed-12/
END:VEVENT
BEGIN:VEVENT
DTSTART;TZID=America/New_York:20250914T140000
DTEND;TZID=America/New_York:20250914T150000
DTSTAMP:20260425T184906
CREATED:20241212T143220Z
LAST-MODIFIED:20241212T143220Z
UID:2035-1757858400-1757862000@matamorasborough.com
SUMMARY:Historical Society
DESCRIPTION:
URL:https://matamorasborough.com/event/historical-society-12/
END:VEVENT
BEGIN:VEVENT
DTSTART;TZID=America/New_York:20250916T190000
DTEND;TZID=America/New_York:20250916T200000
DTSTAMP:20260425T184906
CREATED:20241212T143220Z
LAST-MODIFIED:20250219T181837Z
UID:2037-1758049200-1758052800@matamorasborough.com
SUMMARY:Planning Commission
DESCRIPTION:
URL:https://matamorasborough.com/event/planning-11/
END:VEVENT
BEGIN:VEVENT
DTSTART;TZID=America/New_York:20250917T190000
DTEND;TZID=America/New_York:20250917T200000
DTSTAMP:20260425T184906
CREATED:20241212T143220Z
LAST-MODIFIED:20241212T143220Z
UID:2040-1758135600-1758139200@matamorasborough.com
SUMMARY:Recreation Shop (as needed)
DESCRIPTION:
URL:https://matamorasborough.com/event/recreation-shop-as-needed/
END:VEVENT
BEGIN:VEVENT
DTSTART;TZID=America/New_York:20250918T190000
DTEND;TZID=America/New_York:20250918T200000
DTSTAMP:20260425T184906
CREATED:20241212T143220Z
LAST-MODIFIED:20250219T181911Z
UID:2042-1758222000-1758225600@matamorasborough.com
SUMMARY:General Government
DESCRIPTION:
URL:https://matamorasborough.com/event/general-7/
END:VEVENT
BEGIN:VEVENT
DTSTART;TZID=America/New_York:20250918T190000
DTEND;TZID=America/New_York:20250918T200000
DTSTAMP:20260425T184906
CREATED:20250814T134833Z
LAST-MODIFIED:20250814T134833Z
UID:2670-1758222000-1758225600@matamorasborough.com
SUMMARY:2026 Police Department Budget Workshop
DESCRIPTION:Joint workshop meeting with the Westfall Township Board of Supervisors and the Eastern Pike Regional Police Commission.
URL:https://matamorasborough.com/event/2026-police-department-budget-workshop/
LOCATION:Borough Annex\, 10 Ave I\, Matamoras\, PA
END:VEVENT
BEGIN:VEVENT
DTSTART;TZID=America/New_York:20250922T190000
DTEND;TZID=America/New_York:20250922T200000
DTSTAMP:20260425T184906
CREATED:20241212T143220Z
LAST-MODIFIED:20241212T143220Z
UID:2044-1758567600-1758571200@matamorasborough.com
SUMMARY:American Legion
DESCRIPTION:
URL:https://matamorasborough.com/event/american-legion-12/
END:VEVENT
BEGIN:VEVENT
DTSTART;TZID=America/New_York:20250923T190000
DTEND;TZID=America/New_York:20250923T200000
DTSTAMP:20260425T184906
CREATED:20241212T143219Z
LAST-MODIFIED:20241212T143219Z
UID:2046-1758654000-1758657600@matamorasborough.com
SUMMARY:Republican Party
DESCRIPTION:
URL:https://matamorasborough.com/event/republican-party-13/
END:VEVENT
BEGIN:VEVENT
DTSTART;TZID=America/New_York:20250925T190000
DTEND;TZID=America/New_York:20250925T200000
DTSTAMP:20260425T184906
CREATED:20241212T143219Z
LAST-MODIFIED:20241212T143219Z
UID:2048-1758826800-1758830400@matamorasborough.com
SUMMARY:Veterans
DESCRIPTION:
URL:https://matamorasborough.com/event/veterans-11/
END:VEVENT
END:VCALENDAR